BEGIN:VCALENDAR
VERSION:2.0
PRODID:-//Tukios.com/
BEGIN:VEVENT
UID:5c7699e9-6467-4352-8627-0da876a69718@www.heathfuneralchapel.com
DTSTAMP:20260420T215904Z
DTSTART:20260502T160000Z
DTEND:20260502T171500Z
SUMMARY:Celebration of Life
DESCRIPTION:
URL:https://www.heathfuneralchapel.com/obituaries/judith-asche
LOCATION: 175 Lake Hollingsworth Drive  Lakeland FL 33801
GEO:28.028477;-81.9377343
END:VEVENT
END:VCALENDAR