BEGIN:VCALENDAR
VERSION:2.0
PRODID:-//Tukios.com/
BEGIN:VEVENT
UID:e399fd33-eecf-41ff-9f99-326a0aa9ed94@www.heathfuneralchapel.com
DTSTAMP:20260420T183646Z
DTSTART:20260422T210000Z
DTEND:20260423T000000Z
SUMMARY:Visitation
DESCRIPTION:
URL:https://www.heathfuneralchapel.com/obituaries/maria-jimenez
LOCATION: 328 S Ingraham Ave  Lakeland FL 33801
GEO:28.040859;-81.9445781
END:VEVENT
END:VCALENDAR