BEGIN:VCALENDAR
VERSION:2.0
PRODID:-//Tukios.com/
BEGIN:VEVENT
UID:33959b7e-43e1-49f3-9388-8d263d761335@www.heathfuneralchapel.com
DTSTAMP:20260420T184017Z
DTSTART:20260423T150000Z
DTEND:20260423T160000Z
SUMMARY:Mass
DESCRIPTION:
URL:https://www.heathfuneralchapel.com/obituaries/maria-jimenez
LOCATION: 501 East Carter Road  Lakeland FL 33813
GEO:27.9336756;-81.9510726
END:VEVENT
END:VCALENDAR