BEGIN:VCALENDAR
VERSION:2.0
PRODID:-//Tukios.com/
BEGIN:VEVENT
UID:77ae1865-5a7b-4145-ac0a-bf9c04dd941b@www.heathfuneralchapel.com
DTSTAMP:20260420T184321Z
DTSTART:20260423T163000Z
DTEND:20260423T173000Z
SUMMARY:Burial
DESCRIPTION:
URL:https://www.heathfuneralchapel.com/obituaries/maria-jimenez
LOCATION: 4620 US Highway 98 South  Lakeland FL 33812
GEO:27.9816212;-81.8845756
END:VEVENT
END:VCALENDAR