BEGIN:VCALENDAR
VERSION:2.0
PRODID:-//Tukios.com/
BEGIN:VEVENT
UID:a059d81f-1409-4cdb-b3af-01dca298eaeb@www.heathfuneralchapel.com
DTSTAMP:20260423T085014Z
DTSTART:20260530T150000Z
DTEND:20260530T160000Z
SUMMARY:Memorial Service
DESCRIPTION:
URL:https://www.heathfuneralchapel.com/obituaries/marjorie-comer
LOCATION:Stokesdale United Methodist Church 8305 Loyola Drive  Stokesdale 
	NC 27357
GEO:36.238795;-79.9827909
END:VEVENT
END:VCALENDAR